View In:
ArcGIS JavaScript
ArcGIS Online Map Viewer
ArcGIS Earth
Service Description: Radiació_Solar_2026
Name: Radiació_Solar_2026
Description:
Single Fused Map Cache: false
Extent:
XMin: 415225.96422807884
YMin: 4569124.917153028
XMax: 422592.46422807884
YMax: 4576802.917153028
Spatial Reference: 25831
(25831)
VCSWkid(5773)
LatestVCSWkid(5773)
Initial Extent:
XMin: 415225.96422807884
YMin: 4569124.917153028
XMax: 422592.46422807884
YMax: 4576802.917153028
Spatial Reference: 25831
(25831)
VCSWkid(5773)
LatestVCSWkid(5773)
Full Extent:
XMin: 415225.96422807884
YMin: 4569124.917153028
XMax: 422592.46422807884
YMax: 4576802.917153028
Spatial Reference: 25831
(25831)
VCSWkid(5773)
LatestVCSWkid(5773)
Pixel Size X: 0.5
Pixel Size Y: 0.5
Band Count: 1
Pixel Type: F32
RasterFunction Infos: {"rasterFunctionInfos": [{
"name": "None",
"description": "",
"help": ""
}]}
Mensuration Capabilities: Basic
Inspection Capabilities:
Has Histograms: true
Has Colormap: false
Has Multi Dimensions : false
Rendering Rule:
Min Scale: 0
Max Scale: 0
Copyright Text:
Service Data Type: esriImageServiceDataTypeGeneric
Min Values: 0.007814206182956696
Max Values: 1378.346435546875
Mean Values: 906.7361783076501
Standard Deviation Values: 355.4875165835065
Object ID Field:
Fields:
None
Default Mosaic Method: Center
Allowed Mosaic Methods:
SortField:
SortValue: null
Mosaic Operator: First
Default Compression Quality: 75
Default Resampling Method: Bilinear
Max Record Count: null
Max Image Height: 15000
Max Image Width: 15000
Max Download Image Count: null
Max Mosaic Image Count: null
Allow Raster Function: true
Allow Copy: true
Allow Analysis: true
Allow Compute TiePoints: false
Supports Statistics: false
Supports Advanced Queries: false
Use StandardizedQueries: true
Raster Type Infos:
Name: Raster Dataset
Description: Supports all ArcGIS Raster Datasets
Help:
Has Raster Attribute Table: false
Edit Fields Info: null
Ownership Based AccessControl For Rasters: null
Child Resources:
Info
Histograms
Statistics
Key Properties
Legend
Raster Function Infos
Supported Operations:
Export Image
Identify
Measure
Compute Histograms
Compute Statistics Histograms
Get Samples
Compute Class Statistics
Query Boundary
Compute Pixel Location
Compute Angles
Validate
Project